Workbook

Sheet INSTRUCCIONES
C3: 1. COMPLETA LA CONFIGURACIÓN INICIAL EN LA PESTAÑA "COMENZAR AQUÍ" DEFINIENDO TUS TABLEROS Y LISTAS DESPLEGABLES, PROCEDE A LAS PESTAÑAS "LISTA DE INVENTARIO" Y "SEGUIMIENTO DE INVENTARIO".
N4: GUÍA DE PASOS
N6: 1. LISTA DE INVENTARIO
N8: 2. SEGUIMIENTO DE INVENTARIO
C40: CAMBIA TU MES/AÑO/DÍA DE INICIO Y SE ACTUALIZARÁ AUTOMÁTICAMENTE A OTRAS PESTAÑAS.
G51: TUS FECHAS DE ENTRADA / SALIDA SE DESTACARÁN EN EL CALENDARIO
C68: PERSONALIZA TUS LISTAS DE CATEGORÍA / ESTADO DE INVENTARIO / PROVEEDOR / ESTADO DE PEDIDO SEGÚN TUS NECESIDADES Y TODAS LAS LISTAS SERÁN TRANSFERIDAS A OTRAS PESTAÑAS POR SECCIONES.
C116: 2. PESTAÑA LISTA DE INVENTARIO
C216: GUIA
E220: #1 | F220: AÑADE TUS ITEMS AL INVENTARIO QUE QUIERES PEDIR
E235: #2 | F235: ELIGE UN PROVEEDOR AL QUE QUIERES HACER UN PEDIDO
E249: #3 | F249: AÑADE LA CANTIDAD QUE QUIERES PEDIR
B262: ! | C262: NOTA: LA COLUMNA "QTY EN STOCK" CONTIENE UNA FÓRMULA QUE ESTÁ DIRECTAMENTE CONECTADA A LA COLUMNA "ESTADO DEL PEDIDO" Y SE CALCULA AUTOMÁTICAMENTE.
A275: Volveremos a esto brevemente
E280: #4 | F280: AGREGAR EL COSTO DEL ITEM
B292: ! | C292: NOTA: LAS COLUMNAS "COSTO TOTAL" Y "VALOR DE INVENTARIO" CONTIENEN CIERTAS FÓRMULAS QUE SE CALCULAN AUTOMÁTICAMENTE
B294: COLUMNA "COSTO TOTAL" - SE BASA EN LAS COLUMNAS "CANTIDAD" Y "COSTO DEL ITEM". (COSTO DEL ITEM * CANTIDAD).
B295: COLUMNA "VALOR DE INVENTARIO" - SE BASA EN EL RESUMEN DE LA COLUMNA "COSTO TOTAL"
E306: #5 | F306: AGREGAR UNA FECHA DE ENTRADA DEL ITEM
A318: POR EJEMPLO, ESCRIBE "15/05/2023" Y PRESIONA EL BOTÓN "ENTER" PARA FIJAR UNA FECHA.
E323: #6 | F323: ELIGE UN ESTADO DE PEDIDO DE LAS LISTAS DESPLEGABLES.
B337: ! | C337: NOTA: LA COLUMNA "ESTADO DEL PEDIDO" SE REFLEJA EN LA COLUMNA "QTY EN STOCK".
B339: ESTADO DEL PEDIDO ENTREGADO: SIGNIFICA QUE YA HAS RECIBIDO ESTE ITEM. LA CANTIDAD DE ARTÍCULOS PEDIDOS SE AGREGARÁN A TU STOCK.
A341: ESTADO DE PEDIDO NO INICIADO/EN TRÁNSITO: SIGNIFICA QUE AÚN NO HAS RECIBIDO ESTE ITEM. LA CANTIDAD DE ITEMS PEDIDOS NO SE AGREGARÁN A TU STOCK.
B353: ! | C353: NOTA: LA COLUMNA "DÍAS RESTANTES" SE REFLEJA EN LA COLUMNA "FECHA DE ENTRADA" Y EL DÍA DE HOY.
C367: 3. PESTAÑA SEGUIMIENTO DE INVENTARIO
C426: GUÍA DE PASOS
E431: #1 | F431: ELIGE LOS ITEMS DE TU INVENTARIO QUE QUIERES VENDER.
E445: #2 | F445: ESCRIBE UN NÚMERO DE SERIE Y ELIGE UNA CATEGORÍA DE TU LISTA.
E460: #3 | F460: ESCRIBE LA CANTIDAD DE UN ITEM QUE QUIERES ENVIAR (VENDER).
B482: ! | C482: NOTA: LA COLUMNA "QTY EN STOCK" CONTIENE UNA FÓRMULA QUE ESTÁ DIRECTAMENTE CONECTADA A LA PESTAÑA "LISTA DE INVENTARIO" Y SE CALCULA AUTOMÁTICAMENTE.
C485: COLUMNA DE ESTADO AUTO GENERA TU INVENTARIO DE ESTADO COMO RECORDATORIO.
C487: BAJO EN STOCK - SI UN VALOR DE INVENTARIO ES MENOR DE 10
C489: EN STOCK - SI UN VALOR DE INVENTARIO ES MAYOR A 10
C491: AGOTADO - SI UN VALOR DE INVENTARIO ES IGUAL O MENOR A 0
C494: EL FORMATO CONDICIONAL FUNCIONA SÓLO CON LAS PALABRAS "BAJO EN STOCK", "EN STOCK", "AGOTADO". SI CAMBIAS LOS NOMBRES DE ESTADO, SE PERDERÁ EL FORMATO CONDICIONAL.
E498: #4 | F498: AGREGA UN PRECIO AL ITEM
B514: ! | C514: NOTA: LAS COLUMNAS "COSTO TOTAL" Y "GANANCIA" CONTIENEN CIERTAS FÓRMULAS QUE SE CALCULAN AUTOMÁTICAMENTE.
B516: "COLUMNA COSTO TOTAL" - SE BASA EN LAS COLUMNAS "CANTIDAD" Y "PRECIO DEL ITEM". (PRECIO DEL ITEM * CANTIDAD).
B517: COLUMNA "GANANCIA": EL INGRESO SE CALCULA DESDE EL MONTO TOTAL COMPRADO (PESTAÑA DE LISTA DE INVENTARIO) HASTA EL MONTO TOTAL VENDIDO POR ITEM (PESTAÑA DE SEGUIMIENTO DE INVENTARIO).
...

Sheet Formulas, No borrar
B2: Meses | E2: Año | G2: Día de la Semana | I2: Moneda
B3: Enero | C3: 1 | E3: 2022 | G3: Domingo | I3: $ | L3: FORMULAS NO EDITAR
B4: Febrero | C4: 2 | E4: 2023 | G4: Lunes | I4: £
B5: Marzo | C5: 3 | E5: 2024 | I5: € | O5: MES | P5: =VLOOKUP(O5,Config!B11:C11,2,0) -> Junio
B6: Abril | C6: 4 | E6: 2025 | I6: ¥ | O6: #MES | P6: =VLOOKUP(P5,B3:C14,2,0) -> 6
B7: Mayo | C7: 5 | I7: ₱ | O7: PRIMER DIA | P7: =DATE(Config!C13,P6,1) -> 45078
B8: Junio | C8: 6 | I8: zł | O8: ULTIMO DIA | P8: =EOMONTH(P7,0) -> 45107
B9: Julio | C9: 7 | I9: Bs. | L9: FORMULAS
B10: Agosto | C10: 8 | I10: R$ | L10: =IF(Config!C15="Lunes",P10:P16,O10:O16) -> Domingo | M10: =IF(Config!C15="Lunes",P10:P16,O10:O16) -> Domingo | O10: Domingo | P10: Lunes
B11: Septiembre | C11: 9 | I11: ₡ | L11: =IF(Config!C15="Lunes",P10:P16,O10:O16) -> Lunes | M11: =IF(Config!C15="Lunes",P10:P16,O10:O16) -> Lunes | O11: Lunes | P11: Martes
B12: Octubre | C12: 10 | I12: Q | L12: =IF(Config!C15="Lunes",P10:P16,O10:O16) -> Martes | M12: =IF(Config!C15="Lunes",P10:P16,O10:O16) -> Martes | O12: Martes | P12: Miércoles
B13: Noviembre | C13: 11 | I13: L | L13: =IF(Config!C15="Lunes",P10:P16,O10:O16) -> Miércoles | M13: =IF(Config!C15="Lunes",P10:P16,O10:O16) -> Miércoles | O13: Miércoles | P13: Jueves
B14: Diciembre | C14: 12 | I14: C$ | L14: =IF(Config!C15="Lunes",P10:P16,O10:O16) -> Jueves | M14: =IF(Config!C15="Lunes",P10:P16,O10:O16) -> Jueves | O14: Jueves | P14: Viernes
I15: ₲ | L15: =IF(Config!C15="Lunes",P10:P16,O10:O16) -> Viernes | M15: =IF(Config!C15="Lunes",P10:P16,O10:O16) -> Viernes | O15: Viernes | P15: Sábado
I16: B/. | L16: =IF(Config!C15="Lunes",P10:P16,O10:O16) -> Sábado | M16: =IF(Config!C15="Lunes",P10:P16,O10:O16) -> Sábado | O16: Sábado | P16: Domingo
I17: S/.
I18: Bs F | O18: =O10 -> Domingo | P18: =P10 -> Lunes
O19: =P7-WEEKDAY(P7) -> 45073 | P19: =P7-WEEKDAY(P7) -> 45073
L20: ='SEGUIMIENTO DE INVENTARIO'!M16 -> Pnte por Vender | M20: ='SEGUIMIENTO DE INVENTARIO'!O16 -> Vendido | O20: =O19+1 -> 45074 | P20: =P19+2 -> 45075
L21: ='SEGUIMIENTO DE INVENTARIO'!N16 -> 1684 | M21: ='SEGUIMIENTO DE INVENTARIO'!P16 -> 5104
O22: =IF(AND(DAY(O20)=1,F1="Monday"),TRUE,FALSE) -> FALSE | P22: =P20-7 -> 45068
O24: Día de Inicio: | P24: =DATE(Config!C13,P6,1)-WEEKDAY(DATE(Config!C13,P6,1))+IF(Config!C15="Lunes",2,1) -> 45074

Sheet Config
B2: CONFIGURACIÓN
B3: Ingresa las categorías, estado de inventario, proveedores y estado del pedido.
C4: Llena estos campos obligatorios
C5: Llena estos campos obligatorios en la tablas
B8: Información General | E8: Seguimiento de Inventario | I8: Lista de Inventario
E10: CATEGORÍA | G10: ESTADO DE INVENTARIO | I10: PROVEEDOR | K10: ESTADO DEL PEDIDO
B11: MES | C11: Junio | E11: ROPA | G11: AGOTADO | I11: Lux | K11: EN TRANSITO
E12: ZAPATOS | G12: EN STOCK | I12: Sucasa | K12: NO INICIADO
B13: AÑO | C13: 2023 | E13: ACCESORIOS | G13: BAJO EN STOCK | I13: Tolita | K13: ENTREGADO
E14: BELLEZA | I14: Lola
E15: TÉCNICA | I15: Shein
B16: TU MONEDA | C16: $ | E16: OTROS | I16: EXTRA 1
E17: EXTRA 1 | I17: EXTRA 2
E18: EXTRA 2 | I18: EXTRA 3
E19: EXTRA 3 | I19: EXTRA 4
E20: EXTRA 4 | I20: EXTRA 5
E21: EXTRA 5 | I21: EXTRA 6
E22: EXTRA 6 | I22: EXTRA 7
E23: EXTRA 7 | I23: EXTRA 8
E24: EXTRA 8 | I24: EXTRA 9

Sheet LISTA DE INVENTARIO
B2: LISTA DE INVENTARIO
B3: Edita aquí los ítems, cantidades, costo del item y las fechas de entrada.
D4: Llena estos campos obligatorios en la tabla
D5: Los campos en azul claro se llenan automáticamente (No modificarlos)
B8: =Config!C11 &" "&Config!C13 -> Junio 2023 | K8: ESTADO DEL PEDIDO
C9: L | D9: M | E9: M | F9: J | G9: V | H9: S | I9: D | K9: =Config!K11 -> EN TRANSITO | M9: =Config!K12 -> NO INICIADO | O9: =Config!K13 -> ENTREGADO
B10: S1 | C10: {=(DATE(Config!$C$13,'Formulas, No borrar'!$P$6,1)-WEEKDAY(DATE(Config!$C$13,'Formulas, No borrar'!$P$6,1),1)+1)+(COLUMN($C$10:$I$10)-COLUMN($C$10)+1)+((ROW($C$10:$C$15)-ROW($C$10))*7)} -> 45075 | D10: 45076 | E10: 45077 | F10: 45078 | G10: 45079 | H10: 45080 | I10: 45081 | K10: =COUNTIF(Q22:Q122,K9) -> 5 | L10: =IFERROR(COUNTIFS(Q22:Q122,K9)/COUNTIFS(Q22:Q122,"<>"),"") -> 0.41666667 | M10: =COUNTIF(Q22:Q122,M9) -> 4 | N10: =IFERROR(COUNTIFS(Q22:Q122,M9)/COUNTIFS(Q22:Q122,"<>"),"") -> 0.33333333 | O10: =COUNTIF(Q22:Q122,O9) -> 3 | P10: =IFERROR(COUNTIFS(Q22:Q122,O9)/COUNTIFS(Q22:Q122,"<>"),"") -> 0.25
B11: S2 | C11: 45082 | D11: 45083 | E11: 45084 | F11: 45085 | G11: 45086 | H11: 45087 | I11: 45088
B12: S3 | C12: 45089 | D12: 45090 | E12: 45091 | F12: 45092 | G12: 45093 | H12: 45094 | I12: 45095
B13: S4 | C13: 45096 | D13: 45097 | E13: 45098 | F13: 45099 | G13: 45100 | H13: 45101 | I13: 45102 | K13: ITEMS TOTALES | M13: VALOR DE INVENTARIO | O13: QTY TOTAL DE ITEMS | Q13: QTY ITEMS EN STOCK
B14: S5 | C14: 45103 | D14: 45104 | E14: 45105 | F14: 45106 | G14: 45107 | H14: 45108 | I14: 45109 | K14: =COUNTIF(C22:C252,"<>") -> 12 | M14: =SUM(N22:N252) -> 6458 | O14: =SUM(K22:K252) -> 470 | Q14: =SUMIFS(K22:K122,Q22:Q122,O9) -> 170
B15: S6 | C15: 45110 | D15: 45111 | E15: 45112 | F15: 45113 | G15: 45114 | H15: 45115 | I15: 45116
B17: FECHA: | C17: =TODAY() -> 45942
B18: 1 | C18: - | D18: FECHA
B19: 1 | C19: - | D19: FECHA DE ENTRADA
B21: # | C21: DESCRIPCIÓN DEL ITEM | J21: PROVEEDOR | K21: CANTIDAD | L21: QTY EN STOCK | M21: COSTO DEL ITEM | N21: COSTO TOTAL | O21: VALOR DEL INVENTARIO | P21: FECHA DE ENTRADA | Q21: ESTADO DEL PEDIDO | R21: DÍAS RESTANTES (<7) | S21: Notas
B22: 1 | C22: Vestido rojo | J22: Lola | K22: 100 | L22: =IF(ISBLANK(C22),"",IF(Q22=$O$9,SUMIFS('LISTA DE INVENTARIO'!$K$22:$K252,'LISTA DE INVENTARIO'!$C$22:$C252,C22,$Q$22:$Q252,$O$9)-SUMIFS('SEGUIMIENTO DE INVENTARIO'!$L$21:$L122,'SEGUIMIENTO DE INVENTARIO'!$C$21:$C122,C22),SUMIFS('LISTA DE INVENTARIO'!$K$22:$K252,'LISTA DE INVENTARIO'!$C$22:$C252,C22,$Q$22:$Q252,$O$9)-SUMIFS('SEGUIMIENTO DE INVENTARIO'!$L$21:$L122,'SEGUIMIENTO DE INVENTARIO'!$C$21:$C122,C22))) -> 10 | M22: 14 | N22: =IF(ISBLANK(C22)," ",K22*M22) -> 1400 | O22: =IF(ISBLANK(C22)," ",K22*M22) -> 1400 | P22: 45081 | Q22: ENTREGADO | R22: {=IF($P$22:$P$321<>"",IF(($P$22:$P$321-C17)<0,"✓",($P$22:$P$321-C17)),"")} -> ✓
B23: 2 | C23: Mochila roja | J23: Sucasa | K23: 20 | L23: =IF(ISBLANK(C23),"",IF(Q23=$O$9,SUMIFS('LISTA DE INVENTARIO'!$K$22:$K253,'LISTA DE INVENTARIO'!$C$22:$C253,C23,$Q$22:$Q253,$O$9)-SUMIFS('SEGUIMIENTO DE INVENTARIO'!$L$21:$L123,'SEGUIMIENTO DE INVENTARIO'!$C$21:$C123,C23),SUMIFS('LISTA DE INVENTARIO'!$K$22:$K253,'LISTA DE INVENTARIO'!$C$22:$C253,C23,$Q$22:$Q253,$O$9)-SUMIFS('SEGUIMIENTO DE INVENTARIO'!$L$21:$L123,'SEGUIMIENTO DE INVENTARIO'!$C$21:$C123,C23))) -> 17 | M23: 8 | N23: =IF(ISBLANK(C23)," ",K23*M23) -> 160 | O23: =IF(ISBLANK(C23)," ",K23*M23+O22) -> 1560 | P23: 45082 | Q23: ENTREGADO | R23: ✓
B24: 3 | C24: Falda turquesa | J24: Lola | K24: 45 | L24: =IF(ISBLANK(C24),"",IF(Q24=$O$9,SUMIFS('LISTA DE INVENTARIO'!$K$22:$K254,'LISTA DE INVENTARIO'!$C$22:$C254,C24,$Q$22:$Q254,$O$9)-SUMIFS('SEGUIMIENTO DE INVENTARIO'!$L$21:$L326,'SEGUIMIENTO DE INVENTARIO'!$C$21:$C326,C24),SUMIFS('LISTA DE INVENTARIO'!$K$22:$K254,'LISTA DE INVENTARIO'!$C$22:$C254,C24,$Q$22:$Q254,$O$9)-SUMIFS('SEGUIMIENTO DE INVENTARIO'!$L$21:$L326,'SEGUIMIENTO DE INVENTARIO'!$C$21:$C326,C24))) -> -15 | M24: 9 | N24: =IF(ISBLANK(C24)," ",K24*M24) -> 405 | O24: =IF(ISBLANK(C24)," ",K24*M24+O23) -> 1965 | P24: 45094 | Q24: EN TRANSITO | R24: ✓
B25: 4 | C25: Jeans de hombre | J25: Lux | K25: 50 | L25: =IF(ISBLANK(C25),"",IF(Q25=$O$9,SUMIFS('LISTA DE INVENTARIO'!$K$22:$K255,'LISTA DE INVENTARIO'!$C$22:$C255,C25,$Q$22:$Q255,$O$9)-SUMIFS('SEGUIMIENTO DE INVENTARIO'!$L$21:$L327,'SEGUIMIENTO DE INVENTARIO'!$C$21:$C327,C25),SUMIFS('LISTA DE INVENTARIO'!$K$22:$K255,'LISTA DE INVENTARIO'!$C$22:$C255,C25,$Q$22:$Q255,$O$9)-SUMIFS('SEGUIMIENTO DE INVENTARIO'!$L$21:$L327,'SEGUIMIENTO DE INVENTARIO'!$C$21:$C327,C25))) -> 7 | M25: 12 | N25: =IF(ISBLANK(C25)," ",K25*M25) -> 600 | O25: =IF(ISBLANK(C25)," ",K25*M25+O24) -> 2565 | P25: 45082 | Q25: ENTREGADO | R25: ✓
B26: 5 | C26: Jeans de mujer | J26: Lux | K26: 60 | L26: =IF(ISBLANK(C26),"",IF(Q26=$O$9,SUMIFS('LISTA DE INVENTARIO'!$K$22:$K256,'LISTA DE INVENTARIO'!$C$22:$C256,C26,$Q$22:$Q256,$O$9)-SUMIFS('SEGUIMIENTO DE INVENTARIO'!$L$21:$L328,'SEGUIMIENTO DE INVENTARIO'!$C$21:$C328,C26),SUMIFS('LISTA DE INVENTARIO'!$K$22:$K256,'LISTA DE INVENTARIO'!$C$22:$C256,C26,$Q$22:$Q256,$O$9)-SUMIFS('SEGUIMIENTO DE INVENTARIO'!$L$21:$L328,'SEGUIMIENTO DE INVENTARIO'!$C$21:$C328,C26))) -> 0 | M26: 14 | N26: =IF(ISBLANK(C26)," ",K26*M26) -> 840 | O26: =IF(ISBLANK(C26)," ",K26*M26+O25) -> 3405 | P26: 45088 | Q26: NO INICIADO | R26: ✓
B27: 6 | C27: Zapatos casuales hombre | J27: Tolita | K27: 50 | L27: =IF(ISBLANK(C27),"",IF(Q27=$O$9,SUMIFS('LISTA DE INVENTARIO'!$K$22:$K257,'LISTA DE INVENTARIO'!$C$22:$C257,C27,$Q$22:$Q257,$O$9)-SUMIFS('SEGUIMIENTO DE INVENTARIO'!$L$21:$L329,'SEGUIMIENTO DE INVENTARIO'!$C$21:$C329,C27),SUMIFS('LISTA DE INVENTARIO'!$K$22:$K257,'LISTA DE INVENTARIO'!$C$22:$C257,C27,$Q$22:$Q257,$O$9)-SUMIFS('SEGUIMIENTO DE INVENTARIO'!$L$21:$L329,'SEGUIMIENTO DE INVENTARIO'!$C$21:$C329,C27))) -> -2 | M27: 16 | N27: =IF(ISBLANK(C27)," ",K27*M27) -> 800 | O27: =IF(ISBLANK(C27)," ",K27*M27+O26) -> 4205 | P27: 45094 | Q27: EN TRANSITO | R27: ✓
B28: 7 | C28: Chaleco mostaza | J28: Shein | K28: 25 | L28: =IF(ISBLANK(C28),"",IF(Q28=$O$9,SUMIFS('LISTA DE INVENTARIO'!$K$22:$K258,'LISTA DE INVENTARIO'!$C$22:$C258,C28,$Q$22:$Q258,$O$9)-SUMIFS('SEGUIMIENTO DE INVENTARIO'!$L$21:$L330,'SEGUIMIENTO DE INVENTARIO'!$C$21:$C330,C28),SUMIFS('LISTA DE INVENTARIO'!$K$22:$K258,'LISTA DE INVENTARIO'!$C$22:$C258,C28,$Q$22:$Q258,$O$9)-SUMIFS('SEGUIMIENTO DE INVENTARIO'!$L$21:$L330,'SEGUIMIENTO DE INVENTARIO'!$C$21:$C330,C28))) -> -1 | M28: 9 | N28: =IF(ISBLANK(C28)," ",K28*M28) -> 225 | O28: =IF(ISBLANK(C28)," ",K28*M28+O27) -> 4430 | P28: 45095 | Q28: EN TRANSITO | R28: ✓
B29: 8 | C29: Blusa verde | J29: Shein | K29: 48 | L29: =IF(ISBLANK(C29),"",IF(Q29=$O$9,SUMIFS('LISTA DE INVENTARIO'!$K$22:$K259,'LISTA DE INVENTARIO'!$C$22:$C259,C29,$Q$22:$Q259,$O$9)-SUMIFS('SEGUIMIENTO DE INVENTARIO'!$L$21:$L331,'SEGUIMIENTO DE INVENTARIO'!$C$21:$C331,C29),SUMIFS('LISTA DE INVENTARIO'!$K$22:$K259,'LISTA DE INVENTARIO'!$C$22:$C259,C29,$Q$22:$Q259,$O$9)-SUMIFS('SEGUIMIENTO DE INVENTARIO'!$L$21:$L331,'SEGUIMIENTO DE INVENTARIO'!$C$21:$C331,C29))) -> -2 | M29: 15 | N29: =IF(ISBLANK(C29)," ",K29*M29) -> 720 | O29: =IF(ISBLANK(C29)," ",K29*M29+O28) -> 5150 | P29: 45095 | Q29: EN TRANSITO | R29: ✓
B30: 9 | C30: Aretes de perla | J30: Sucasa | K30: 18 | L30: =IF(ISBLANK(C30),"",IF(Q30=$O$9,SUMIFS('LISTA DE INVENTARIO'!$K$22:$K260,'LISTA DE INVENTARIO'!$C$22:$C260,C30,$Q$22:$Q260,$O$9)-SUMIFS('SEGUIMIENTO DE INVENTARIO'!$L$21:$L332,'SEGUIMIENTO DE INVENTARIO'!$C$21:$C332,C30),SUMIFS('LISTA DE INVENTARIO'!$K$22:$K260,'LISTA DE INVENTARIO'!$C$22:$C260,C30,$Q$22:$Q260,$O$9)-SUMIFS('SEGUIMIENTO DE INVENTARIO'!$L$21:$L332,'SEGUIMIENTO DE INVENTARIO'!$C$21:$C332,C30))) -> -7 | M30: 16 | N30: =IF(ISBLANK(C30)," ",K30*M30) -> 288 | O30: =IF(ISBLANK(C30)," ",K30*M30+O29) -> 5438 | P30: 45092 | Q30: NO INICIADO | R30: ✓
B31: 10 | C31: reloj azul sport hombre | J31: Lux | K31: 18 | L31: =IF(ISBLANK(C31),"",IF(Q31=$O$9,SUMIFS('LISTA DE INVENTARIO'!$K$22:$K261,'LISTA DE INVENTARIO'!$C$22:$C261,C31,$Q$22:$Q261,$O$9)-SUMIFS('SEGUIMIENTO DE INVENTARIO'!$L$21:$L333,'SEGUIMIENTO DE INVENTARIO'!$C$21:$C333,C31),SUMIFS('LISTA DE INVENTARIO'!$K$22:$K261,'LISTA DE INVENTARIO'!$C$22:$C261,C31,$Q$22:$Q261,$O$9)-SUMIFS('SEGUIMIENTO DE INVENTARIO'!$L$21:$L333,'SEGUIMIENTO DE INVENTARIO'!$C$21:$C333,C31))) -> -8 | M31: 16 | N31: =IF(ISBLANK(C31)," ",K31*M31) -> 288 | O31: =IF(ISBLANK(C31)," ",K31*M31+O30) -> 5726 | P31: 45095 | Q31: EN TRANSITO | R31: ✓
B32: 11 | C32: Crema de ojos | J32: Lux | K32: 20 | L32: =IF(ISBLANK(C32),"",IF(Q32=$O$9,SUMIFS('LISTA DE INVENTARIO'!$K$22:$K262,'LISTA DE INVENTARIO'!$C$22:$C262,C32,$Q$22:$Q262,$O$9)-SUMIFS('SEGUIMIENTO DE INVENTARIO'!$L$21:$L334,'SEGUIMIENTO DE INVENTARIO'!$C$21:$C334,C32),SUMIFS('LISTA DE INVENTARIO'!$K$22:$K262,'LISTA DE INVENTARIO'!$C$22:$C262,C32,$Q$22:$Q262,$O$9)-SUMIFS('SEGUIMIENTO DE INVENTARIO'!$L$21:$L334,'SEGUIMIENTO DE INVENTARIO'!$C$21:$C334,C32))) -> -1 | M32: 23 | N32: =IF(ISBLANK(C32)," ",K32*M32) -> 460 | O32: =IF(ISBLANK(C32)," ",K32*M32+O31) -> 6186 | P32: 45095 | Q32: NO INICIADO | R32: ✓
B33: 12 | C33: Billetera roja | J33: Sucasa | K33: 16 | L33: =IF(ISBLANK(C33),"",IF(Q33=$O$9,SUMIFS('LISTA DE INVENTARIO'!$K$22:$K263,'LISTA DE INVENTARIO'!$C$22:$C263,C33,$Q$22:$Q263,$O$9)-SUMIFS('SEGUIMIENTO DE INVENTARIO'!$L$21:$L335,'SEGUIMIENTO DE INVENTARIO'!$C$21:$C335,C33),SUMIFS('LISTA DE INVENTARIO'!$K$22:$K263,'LISTA DE INVENTARIO'!$C$22:$C263,C33,$Q$22:$Q263,$O$9)-SUMIFS('SEGUIMIENTO DE INVENTARIO'!$L$21:$L335,'SEGUIMIENTO DE INVENTARIO'!$C$21:$C335,C33))) -> 0 | M33: 17 | N33: =IF(ISBLANK(C33)," ",K33*M33) -> 272 | O33: =IF(ISBLANK(C33)," ",K33*M33+O32) -> 6458 | P33: 45095 | Q33: NO INICIADO | R33: ✓
B34: 13 | L34: =IF(ISBLANK(C34),"",IF(Q34=$O$9,SUMIFS('LISTA DE INVENTARIO'!$K$22:$K264,'LISTA DE INVENTARIO'!$C$22:$C264,C34,$Q$22:$Q264,$O$9)-SUMIFS('SEGUIMIENTO DE INVENTARIO'!$L$21:$L336,'SEGUIMIENTO DE INVENTARIO'!$C$21:$C336,C34),SUMIFS('LISTA DE INVENTARIO'!$K$22:$K264,'LISTA DE INVENTARIO'!$C$22:$C264,C34,$Q$22:$Q264,$O$9)-SUMIFS('SEGUIMIENTO DE INVENTARIO'!$L$21:$L336,'SEGUIMIENTO DE INVENTARIO'!$C$21:$C336,C34))) | N34: =IF(ISBLANK(C34)," ",K34*M34) | O34: =IF(ISBLANK(C34)," ",K34*M34+O33)
B35: 14 | L35: =IF(ISBLANK(C35),"",IF(Q35=$O$9,SUMIFS('LISTA DE INVENTARIO'!$K$22:$K265,'LISTA DE INVENTARIO'!$C$22:$C265,C35,$Q$22:$Q265,$O$9)-SUMIFS('SEGUIMIENTO DE INVENTARIO'!$L$21:$L337,'SEGUIMIENTO DE INVENTARIO'!$C$21:$C337,C35),SUMIFS('LISTA DE INVENTARIO'!$K$22:$K265,'LISTA DE INVENTARIO'!$C$22:$C265,C35,$Q$22:$Q265,$O$9)-SUMIFS('SEGUIMIENTO DE INVENTARIO'!$L$21:$L337,'SEGUIMIENTO DE INVENTARIO'!$C$21:$C337,C35))) | N35: =IF(ISBLANK(C35)," ",K35*M35) | O35: =IF(ISBLANK(C35)," ",K35*M35+O34)
B36: 15 | L36: =IF(ISBLANK(C36),"",IF(Q36=$O$9,SUMIFS('LISTA DE INVENTARIO'!$K$22:$K266,'LISTA DE INVENTARIO'!$C$22:$C266,C36,$Q$22:$Q266,$O$9)-SUMIFS('SEGUIMIENTO DE INVENTARIO'!$L$21:$L338,'SEGUIMIENTO DE INVENTARIO'!$C$21:$C338,C36),SUMIFS('LISTA DE INVENTARIO'!$K$22:$K266,'LISTA DE INVENTARIO'!$C$22:$C266,C36,$Q$22:$Q266,$O$9)-SUMIFS('SEGUIMIENTO DE INVENTARIO'!$L$21:$L338,'SEGUIMIENTO DE INVENTARIO'!$C$21:$C338,C36))) | N36: =IF(ISBLANK(C36)," ",K36*M36) | O36: =IF(ISBLANK(C36)," ",K36*M36+O35)
B37: 16 | L37: =IF(ISBLANK(C37),"",IF(Q37=$O$9,SUMIFS('LISTA DE INVENTARIO'!$K$22:$K267,'LISTA DE INVENTARIO'!$C$22:$C267,C37,$Q$22:$Q267,$O$9)-SUMIFS('SEGUIMIENTO DE INVENTARIO'!$L$21:$L339,'SEGUIMIENTO DE INVENTARIO'!$C$21:$C339,C37),SUMIFS('LISTA DE INVENTARIO'!$K$22:$K267,'LISTA DE INVENTARIO'!$C$22:$C267,C37,$Q$22:$Q267,$O$9)-SUMIFS('SEGUIMIENTO DE INVENTARIO'!$L$21:$L339,'SEGUIMIENTO DE INVENTARIO'!$C$21:$C339,C37))) | N37: =IF(ISBLANK(C37)," ",K37*M37) | O37: =IF(ISBLANK(C37)," ",K37*M37+O36)
B38: 17 | L38: =IF(ISBLANK(C38),"",IF(Q38=$O$9,SUMIFS('LISTA DE INVENTARIO'!$K$22:$K268,'LISTA DE INVENTARIO'!$C$22:$C268,C38,$Q$22:$Q268,$O$9)-SUMIFS('SEGUIMIENTO DE INVENTARIO'!$L$21:$L340,'SEGUIMIENTO DE INVENTARIO'!$C$21:$C340,C38),SUMIFS('LISTA DE INVENTARIO'!$K$22:$K268,'LISTA DE INVENTARIO'!$C$22:$C268,C38,$Q$22:$Q268,$O$9)-SUMIFS('SEGUIMIENTO DE INVENTARIO'!$L$21:$L340,'SEGUIMIENTO DE INVENTARIO'!$C$21:$C340,C38))) | N38: =IF(ISBLANK(C38)," ",K38*M38) | O38: =IF(ISBLANK(C38)," ",K38*M38+O37)
B39: 18 | L39: =IF(ISBLANK(C39),"",IF(Q39=$O$9,SUMIFS('LISTA DE INVENTARIO'!$K$22:$K269,'LISTA DE INVENTARIO'!$C$22:$C269,C39,$Q$22:$Q269,$O$9)-SUMIFS('SEGUIMIENTO DE INVENTARIO'!$L$21:$L341,'SEGUIMIENTO DE INVENTARIO'!$C$21:$C341,C39),SUMIFS('LISTA DE INVENTARIO'!$K$22:$K269,'LISTA DE INVENTARIO'!$C$22:$C269,C39,$Q$22:$Q269,$O$9)-SUMIFS('SEGUIMIENTO DE INVENTARIO'!$L$21:$L341,'SEGUIMIENTO DE INVENTARIO'!$C$21:$C341,C39))) | N39: =IF(ISBLANK(C39)," ",K39*M39) | O39: =IF(ISBLANK(C39)," ",K39*M39+O38)
B40: 19 | L40: =IF(ISBLANK(C40),"",IF(Q40=$O$9,SUMIFS('LISTA DE INVENTARIO'!$K$22:$K270,'LISTA DE INVENTARIO'!$C$22:$C270,C40,$Q$22:$Q270,$O$9)-SUMIFS('SEGUIMIENTO DE INVENTARIO'!$L$21:$L342,'SEGUIMIENTO DE INVENTARIO'!$C$21:$C342,C40),SUMIFS('LISTA DE INVENTARIO'!$K$22:$K270,'LISTA DE INVENTARIO'!$C$22:$C270,C40,$Q$22:$Q270,$O$9)-SUMIFS('SEGUIMIENTO DE INVENTARIO'!$L$21:$L342,'SEGUIMIENTO DE INVENTARIO'!$C$21:$C342,C40))) | N40: =IF(ISBLANK(C40)," ",K40*M40) | O40: =IF(ISBLANK(C40)," ",K40*M40+O39)
B41: 20 | L41: =IF(ISBLANK(C41),"",IF(Q41=$O$9,SUMIFS('LISTA DE INVENTARIO'!$K$22:$K271,'LISTA DE INVENTARIO'!$C$22:$C271,C41,$Q$22:$Q271,$O$9)-SUMIFS('SEGUIMIENTO DE INVENTARIO'!$L$21:$L343,'SEGUIMIENTO DE INVENTARIO'!$C$21:$C343,C41),SUMIFS('LISTA DE INVENTARIO'!$K$22:$K271,'LISTA DE INVENTARIO'!$C$22:$C271,C41,$Q$22:$Q271,$O$9)-SUMIFS('SEGUIMIENTO DE INVENTARIO'!$L$21:$L343,'SEGUIMIENTO DE INVENTARIO'!$C$21:$C343,C41))) | N41: =IF(ISBLANK(C41)," ",K41*M41) | O41: =IF(ISBLANK(C41)," ",K41*M41+O40)
B42: 21 | L42: =IF(ISBLANK(C42),"",IF(Q42=$O$9,SUMIFS('LISTA DE INVENTARIO'!$K$22:$K272,'LISTA DE INVENTARIO'!$C$22:$C272,C42,$Q$22:$Q272,$O$9)-SUMIFS('SEGUIMIENTO DE INVENTARIO'!$L$21:$L344,'SEGUIMIENTO DE INVENTARIO'!$C$21:$C344,C42),SUMIFS('LISTA DE INVENTARIO'!$K$22:$K272,'LISTA DE INVENTARIO'!$C$22:$C272,C42,$Q$22:$Q272,$O$9)-SUMIFS('SEGUIMIENTO DE INVENTARIO'!$L$21:$L344,'SEGUIMIENTO DE INVENTARIO'!$C$21:$C344,C42))) | N42: =IF(ISBLANK(C42)," ",K42*M42) | O42: =IF(ISBLANK(C42)," ",K42*M42+O41)
B43: 22 | L43: =IF(ISBLANK(C43),"",IF(Q43=$O$9,SUMIFS('LISTA DE INVENTARIO'!$K$22:$K273,'LISTA DE INVENTARIO'!$C$22:$C273,C43,$Q$22:$Q273,$O$9)-SUMIFS('SEGUIMIENTO DE INVENTARIO'!$L$21:$L345,'SEGUIMIENTO DE INVENTARIO'!$C$21:$C345,C43),SUMIFS('LISTA DE INVENTARIO'!$K$22:$K273,'LISTA DE INVENTARIO'!$C$22:$C273,C43,$Q$22:$Q273,$O$9)-SUMIFS('SEGUIMIENTO DE INVENTARIO'!$L$21:$L345,'SEGUIMIENTO DE INVENTARIO'!$C$21:$C345,C43))) | N43: =IF(ISBLANK(C43)," ",K43*M43) | O43: =IF(ISBLANK(C43)," ",K43*M43+O42)
B44: 23 | L44: =IF(ISBLANK(C44),"",IF(Q44=$O$9,SUMIFS('LISTA DE INVENTARIO'!$K$22:$K274,'LISTA DE INVENTARIO'!$C$22:$C274,C44,$Q$22:$Q274,$O$9)-SUMIFS('SEGUIMIENTO DE INVENTARIO'!$L$21:$L346,'SEGUIMIENTO DE INVENTARIO'!$C$21:$C346,C44),SUMIFS('LISTA DE INVENTARIO'!$K$22:$K274,'LISTA DE INVENTARIO'!$C$22:$C274,C44,$Q$22:$Q274,$O$9)-SUMIFS('SEGUIMIENTO DE INVENTARIO'!$L$21:$L346,'SEGUIMIENTO DE INVENTARIO'!$C$21:$C346,C44))) | N44: =IF(ISBLANK(C44)," ",K44*M44) | O44: =IF(ISBLANK(C44)," ",K44*M44+O43)
B45: 24 | L45: =IF(ISBLANK(C45),"",IF(Q45=$O$9,SUMIFS('LISTA DE INVENTARIO'!$K$22:$K275,'LISTA DE INVENTARIO'!$C$22:$C275,C45,$Q$22:$Q275,$O$9)-SUMIFS('SEGUIMIENTO DE INVENTARIO'!$L$21:$L347,'SEGUIMIENTO DE INVENTARIO'!$C$21:$C347,C45),SUMIFS('LISTA DE INVENTARIO'!$K$22:$K275,'LISTA DE INVENTARIO'!$C$22:$C275,C45,$Q$22:$Q275,$O$9)-SUMIFS('SEGUIMIENTO DE INVENTARIO'!$L$21:$L347,'SEGUIMIENTO DE INVENTARIO'!$C$21:$C347,C45))) | N45: =IF(ISBLANK(C45)," ",K45*M45) | O45: =IF(ISBLANK(C45)," ",K45*M45+O44)
...

Sheet SEGUIMIENTO DE INVENTARIO
B2: SEGUIMIENTO DE INVENTARIO
B3: Edita aquí los ítems que se van a vender, la cantidad, el precio y la fecha de salidad.
D4: Llena estos campos obligatorios en la tabla
D5: Los campos en azul claro se llenan automáticamente. (No modificarlos)
B8: =Config!C11 &" "&Config!C13 -> Junio 2023 | K8: ESTADO DE LA ORDEN
C9: L | D9: M | E9: M | F9: J | G9: V | H9: S | I9: D | K9: AGOTADO | M9: EN STOCK | O9: BAJO EN STOCK
B10: S1 | C10: {=(DATE(Config!$C$13,'Formulas, No borrar'!$P$6,1)-WEEKDAY(DATE(Config!$C$13,'Formulas, No borrar'!$P$6,1),1)+1)+(COLUMN($C$15:$I$15)-COLUMN($C$15)+1)+((ROW($C$15:$C$20)-ROW($C$15))*7)} -> 45075 | D10: 45076 | E10: 45077 | F10: 45078 | G10: 45079 | H10: 45080 | I10: 45081 | K10: =COUNTIF(N22:N122,K9) -> 3 | L10: =IFERROR(COUNTIFS(N22:N4207,K9,T22:T4207,FALSE)/COUNTIFS(C22:C4207,"<>",T22:T4207,FALSE),"") -> 1 | M10: =COUNTIF(N22:N122,M9) -> 0 | N10: =IFERROR(COUNTIFS(N22:N4207,M9,T22:T4207,FALSE)/COUNTIFS(C22:C4207,"<>",T22:T4207,FALSE),"") -> 0 | O10: =COUNTIF(N22:N122,O9) -> 0 | P10: =IFERROR(COUNTIFS(N22:N4207,O9,T22:T4207,FALSE)/COUNTIFS(C22:C4207,"<>",T22:T4207,FALSE),"") -> 0
B11: S2 | C11: 45082 | D11: 45083 | E11: 45084 | F11: 45085 | G11: 45086 | H11: 45087 | I11: 45088
B12: S3 | C12: 45089 | D12: 45090 | E12: 45091 | F12: 45092 | G12: 45093 | H12: 45094 | I12: 45095 | K12: ITEMS TOTALES (QTY) | M12: ITEMS ENVIADOS (QTY) | O12: ITEM PENDIENTES (QTY)
B13: S4 | C13: 45096 | D13: 45097 | E13: 45098 | F13: 45099 | G13: 45100 | H13: 45101 | I13: 45102 | K13: =SUMIF(L22:L5125,"<>") -> 172 | M13: =IFERROR(SUMIF(T22:T5125,TRUE,L22:L5125),"0") -> 148 | O13: =IFERROR(SUMIF(T22:T5125,FALSE,L22:L5125),"0") -> 24 | R13: =IFERROR(P16/L16, "") -> 0.75191514
B14: S5 | C14: 45103 | D14: 45104 | E14: 45105 | F14: 45106 | G14: 45107 | H14: 45108 | I14: 45109
B15: S6 | C15: 45110 | D15: 45111 | E15: 45112 | F15: 45113 | G15: 45114 | H15: 45115 | I15: 45116 | K15: RESUMEN EJECUTIVO
K16: Precio Total | L16: =SUM(P22:P4333) -> 6788 | M16: Pnte por Vender | N16: =SUMIF(T22:T5125,FALSE,P22:P5125) -> 1684 | O16: Vendido | P16: =SUMIF(T22:T5125,TRUE,P22:P5125) -> 5104
B17: FECHA: | C17: =TODAY() -> 45942
B18: 1 | C18: - | D18: FECHA | T18: TRUE
B19: 1 | C19: - | D19: FECHA DE SALIDA | T19: TRUE
B21: # | C21: ITEMS | J21: NÚMERO DE SERIE | K21: CATEGORÍA | L21: QTY | M21: QTY EN STOCK | N21: ESTADO | O21: PRECIO ITEM | P21: PRECIO TOTAL | Q21: GANANCIA | R21: FECHA DE SALIDA | S21: DÍAS RESTANTES | T21: ENVIADO | U21: NOTAS
B22: 1 | C22: Vestido rojo | K22: ROPA | L22: 90 | M22: =IF(ISBLANK(C22),"",IF('LISTA DE INVENTARIO'!$Q$22:$Q4845='LISTA DE INVENTARIO'!$O$9,SUMIFS('LISTA DE INVENTARIO'!$K$22:$K4845,'LISTA DE INVENTARIO'!$C$22:$C4845,C22,'LISTA DE INVENTARIO'!$Q$22:$Q4845,'LISTA DE INVENTARIO'!$O$9)-SUMIFS($L$22:$L5117,$C$22:$C5117,C22),SUMIFS('LISTA DE INVENTARIO'!$K$22:$K4845,'LISTA DE INVENTARIO'!$C$22:$C4845,C22,'LISTA DE INVENTARIO'!$Q$22:$Q4845,'LISTA DE INVENTARIO'!$O$9)-SUMIFS($L$22:$L5117,$C$22:$C5117,C22))) -> 10 | N22: =IF(T22=TRUE,"ENVIADO",IF(ISBLANK(C22),"",IF((AND(M22<=0)),$K$9,IF(AND(M22>0,M22<=10),$O$9,$M$9)))) -> ENVIADO | O22: 21 | P22: =IF(ISBLANK(C22),"",L22*O22) -> 1890 | Q22: =IF(ISBLANK(C22),"",SUMIFS($P$22:$P5120,$C$22:$C5120,C22)-SUMIFS('LISTA DE INVENTARIO'!$N$22:$N4847,'LISTA DE INVENTARIO'!$C$22:$C4847,C22)) -> 490 | R22: 45076 | S22: {=IF($R$22:$R321<>"",IF(($R$22:$R321-C17)<0,"✓",($R$22:$R321-C17)),"")} -> ✓ | T22: TRUE
B23: 2 | C23: Jeans de hombre | K23: ROPA | L23: 30 | M23: =IF(ISBLANK(C23),"",IF('LISTA DE INVENTARIO'!$Q$22:$Q4846='LISTA DE INVENTARIO'!$O$9,SUMIFS('LISTA DE INVENTARIO'!$K$22:$K4846,'LISTA DE INVENTARIO'!$C$22:$C4846,C23,'LISTA DE INVENTARIO'!$Q$22:$Q4846,'LISTA DE INVENTARIO'!$O$9)-SUMIFS($L$22:$L5118,$C$22:$C5118,C23),SUMIFS('LISTA DE INVENTARIO'!$K$22:$K4846,'LISTA DE INVENTARIO'!$C$22:$C4846,C23,'LISTA DE INVENTARIO'!$Q$22:$Q4846,'LISTA DE INVENTARIO'!$O$9)-SUMIFS($L$22:$L5118,$C$22:$C5118,C23))) -> 7 | N23: =IF(T23=TRUE,"ENVIADO",IF(ISBLANK(C23),"",IF((AND(M23<=0)),$K$9,IF(AND(M23>0,M23<=10),$O$9,$M$9)))) -> ENVIADO | O23: 50 | P23: =IF(ISBLANK(C23),"",L23*O23) -> 1500 | Q23: =IF(ISBLANK(C23),"",SUMIFS($P$22:$P5121,$C$22:$C5121,C23)-SUMIFS('LISTA DE INVENTARIO'!$N$22:$N4848,'LISTA DE INVENTARIO'!$C$22:$C4848,C23)) -> 1910 | R23: 45077 | S23: ✓ | T23: TRUE
B24: 3 | C24: Falda turquesa | K24: ROPA | L24: 15 | M24: =IF(ISBLANK(C24),"",IF('LISTA DE INVENTARIO'!$Q$22:$Q4847='LISTA DE INVENTARIO'!$O$9,SUMIFS('LISTA DE INVENTARIO'!$K$22:$K4847,'LISTA DE INVENTARIO'!$C$22:$C4847,C24,'LISTA DE INVENTARIO'!$Q$22:$Q4847,'LISTA DE INVENTARIO'!$O$9)-SUMIFS($L$22:$L5119,$C$22:$C5119,C24),SUMIFS('LISTA DE INVENTARIO'!$K$22:$K4847,'LISTA DE INVENTARIO'!$C$22:$C4847,C24,'LISTA DE INVENTARIO'!$Q$22:$Q4847,'LISTA DE INVENTARIO'!$O$9)-SUMIFS($L$22:$L5119,$C$22:$C5119,C24))) -> -15 | N24: =IF(T24=TRUE,"ENVIADO",IF(ISBLANK(C24),"",IF((AND(M24<=0)),$K$9,IF(AND(M24>0,M24<=10),$O$9,$M$9)))) -> AGOTADO | O24: 90 | P24: =IF(ISBLANK(C24),"",L24*O24) -> 1350 | Q24: =IF(ISBLANK(C24),"",SUMIFS($P$22:$P5122,$C$22:$C5122,C24)-SUMIFS('LISTA DE INVENTARIO'!$N$22:$N4849,'LISTA DE INVENTARIO'!$C$22:$C4849,C24)) -> 945 | R24: 45107 | S24: ✓ | T24: FALSE
B25: 4 | C25: Chaleco mostaza | K25: ROPA | L25: 1 | M25: =IF(ISBLANK(C25),"",IF('LISTA DE INVENTARIO'!$Q$22:$Q4848='LISTA DE INVENTARIO'!$O$9,SUMIFS('LISTA DE INVENTARIO'!$K$22:$K4848,'LISTA DE INVENTARIO'!$C$22:$C4848,C25,'LISTA DE INVENTARIO'!$Q$22:$Q4848,'LISTA DE INVENTARIO'!$O$9)-SUMIFS($L$22:$L5120,$C$22:$C5120,C25),SUMIFS('LISTA DE INVENTARIO'!$K$22:$K4848,'LISTA DE INVENTARIO'!$C$22:$C4848,C25,'LISTA DE INVENTARIO'!$Q$22:$Q4848,'LISTA DE INVENTARIO'!$O$9)-SUMIFS($L$22:$L5120,$C$22:$C5120,C25))) -> -1 | N25: =IF(T25=TRUE,"ENVIADO",IF(ISBLANK(C25),"",IF((AND(M25<=0)),$K$9,IF(AND(M25>0,M25<=10),$O$9,$M$9)))) -> ENVIADO | O25: 40 | P25: =IF(ISBLANK(C25),"",L25*O25) -> 40 | Q25: =IF(ISBLANK(C25),"",SUMIFS($P$22:$P5123,$C$22:$C5123,C25)-SUMIFS('LISTA DE INVENTARIO'!$N$22:$N4850,'LISTA DE INVENTARIO'!$C$22:$C4850,C25)) -> -185 | R25: 45092 | S25: ✓ | T25: TRUE
B26: 5 | C26: Jeans de hombre | K26: ROPA | L26: 9 | M26: =IF(ISBLANK(C26),"",IF('LISTA DE INVENTARIO'!$Q$22:$Q4849='LISTA DE INVENTARIO'!$O$9,SUMIFS('LISTA DE INVENTARIO'!$K$22:$K4849,'LISTA DE INVENTARIO'!$C$22:$C4849,C26,'LISTA DE INVENTARIO'!$Q$22:$Q4849,'LISTA DE INVENTARIO'!$O$9)-SUMIFS($L$22:$L5121,$C$22:$C5121,C26),SUMIFS('LISTA DE INVENTARIO'!$K$22:$K4849,'LISTA DE INVENTARIO'!$C$22:$C4849,C26,'LISTA DE INVENTARIO'!$Q$22:$Q4849,'LISTA DE INVENTARIO'!$O$9)-SUMIFS($L$22:$L5121,$C$22:$C5121,C26))) -> 7 | N26: =IF(T26=TRUE,"ENVIADO",IF(ISBLANK(C26),"",IF((AND(M26<=0)),$K$9,IF(AND(M26>0,M26<=10),$O$9,$M$9)))) -> ENVIADO | O26: 90 | P26: =IF(ISBLANK(C26),"",L26*O26) -> 810 | Q26: =IF(ISBLANK(C26),"",SUMIFS($P$22:$P5124,$C$22:$C5124,C26)-SUMIFS('LISTA DE INVENTARIO'!$N$22:$N4851,'LISTA DE INVENTARIO'!$C$22:$C4851,C26)) -> 1910 | R26: 45093 | S26: ✓ | T26: TRUE
B27: 6 | C27: Blusa verde | K27: ROPA | L27: 2 | M27: =IF(ISBLANK(C27),"",IF('LISTA DE INVENTARIO'!$Q$22:$Q4850='LISTA DE INVENTARIO'!$O$9,SUMIFS('LISTA DE INVENTARIO'!$K$22:$K4850,'LISTA DE INVENTARIO'!$C$22:$C4850,C27,'LISTA DE INVENTARIO'!$Q$22:$Q4850,'LISTA DE INVENTARIO'!$O$9)-SUMIFS($L$22:$L5122,$C$22:$C5122,C27),SUMIFS('LISTA DE INVENTARIO'!$K$22:$K4850,'LISTA DE INVENTARIO'!$C$22:$C4850,C27,'LISTA DE INVENTARIO'!$Q$22:$Q4850,'LISTA DE INVENTARIO'!$O$9)-SUMIFS($L$22:$L5122,$C$22:$C5122,C27))) -> -2 | N27: =IF(T27=TRUE,"ENVIADO",IF(ISBLANK(C27),"",IF((AND(M27<=0)),$K$9,IF(AND(M27>0,M27<=10),$O$9,$M$9)))) -> AGOTADO | O27: 34 | P27: =IF(ISBLANK(C27),"",L27*O27) -> 68 | Q27: =IF(ISBLANK(C27),"",SUMIFS($P$22:$P5125,$C$22:$C5125,C27)-SUMIFS('LISTA DE INVENTARIO'!$N$22:$N4852,'LISTA DE INVENTARIO'!$C$22:$C4852,C27)) -> -652 | R27: 45102 | S27: ✓ | T27: FALSE
B28: 7 | C28: Jeans de hombre | K28: ROPA | L28: 4 | M28: =IF(ISBLANK(C28),"",IF('LISTA DE INVENTARIO'!$Q$22:$Q4851='LISTA DE INVENTARIO'!$O$9,SUMIFS('LISTA DE INVENTARIO'!$K$22:$K4851,'LISTA DE INVENTARIO'!$C$22:$C4851,C28,'LISTA DE INVENTARIO'!$Q$22:$Q4851,'LISTA DE INVENTARIO'!$O$9)-SUMIFS($L$22:$L5123,$C$22:$C5123,C28),SUMIFS('LISTA DE INVENTARIO'!$K$22:$K4851,'LISTA DE INVENTARIO'!$C$22:$C4851,C28,'LISTA DE INVENTARIO'!$Q$22:$Q4851,'LISTA DE INVENTARIO'!$O$9)-SUMIFS($L$22:$L5123,$C$22:$C5123,C28))) -> 7 | N28: =IF(T28=TRUE,"ENVIADO",IF(ISBLANK(C28),"",IF((AND(M28<=0)),$K$9,IF(AND(M28>0,M28<=10),$O$9,$M$9)))) -> ENVIADO | O28: 50 | P28: =IF(ISBLANK(C28),"",L28*O28) -> 200 | Q28: =IF(ISBLANK(C28),"",SUMIFS($P$22:$P5126,$C$22:$C5126,C28)-SUMIFS('LISTA DE INVENTARIO'!$N$22:$N4853,'LISTA DE INVENTARIO'!$C$22:$C4853,C28)) -> 1910 | R28: 45102 | S28: ✓ | T28: TRUE
B29: 8 | C29: Mochila roja | K29: OTROS | L29: 3 | M29: =IF(ISBLANK(C29),"",IF('LISTA DE INVENTARIO'!$Q$22:$Q4852='LISTA DE INVENTARIO'!$O$9,SUMIFS('LISTA DE INVENTARIO'!$K$22:$K4852,'LISTA DE INVENTARIO'!$C$22:$C4852,C29,'LISTA DE INVENTARIO'!$Q$22:$Q4852,'LISTA DE INVENTARIO'!$O$9)-SUMIFS($L$22:$L5124,$C$22:$C5124,C29),SUMIFS('LISTA DE INVENTARIO'!$K$22:$K4852,'LISTA DE INVENTARIO'!$C$22:$C4852,C29,'LISTA DE INVENTARIO'!$Q$22:$Q4852,'LISTA DE INVENTARIO'!$O$9)-SUMIFS($L$22:$L5124,$C$22:$C5124,C29))) -> 17 | N29: =IF(T29=TRUE,"ENVIADO",IF(ISBLANK(C29),"",IF((AND(M29<=0)),$K$9,IF(AND(M29>0,M29<=10),$O$9,$M$9)))) -> ENVIADO | O29: 18 | P29: =IF(ISBLANK(C29),"",L29*O29) -> 54 | Q29: =IF(ISBLANK(C29),"",SUMIFS($P$22:$P5127,$C$22:$C5127,C29)-SUMIFS('LISTA DE INVENTARIO'!$N$22:$N4854,'LISTA DE INVENTARIO'!$C$22:$C4854,C29)) -> -106 | R29: 45105 | S29: ✓ | T29: TRUE
B30: 9 | C30: Crema de ojos | K30: BELLEZA | L30: 1 | M30: =IF(ISBLANK(C30),"",IF('LISTA DE INVENTARIO'!$Q$22:$Q4853='LISTA DE INVENTARIO'!$O$9,SUMIFS('LISTA DE INVENTARIO'!$K$22:$K4853,'LISTA DE INVENTARIO'!$C$22:$C4853,C30,'LISTA DE INVENTARIO'!$Q$22:$Q4853,'LISTA DE INVENTARIO'!$O$9)-SUMIFS($L$22:$L5125,$C$22:$C5125,C30),SUMIFS('LISTA DE INVENTARIO'!$K$22:$K4853,'LISTA DE INVENTARIO'!$C$22:$C4853,C30,'LISTA DE INVENTARIO'!$Q$22:$Q4853,'LISTA DE INVENTARIO'!$O$9)-SUMIFS($L$22:$L5125,$C$22:$C5125,C30))) -> -1 | N30: =IF(T30=TRUE,"ENVIADO",IF(ISBLANK(C30),"",IF((AND(M30<=0)),$K$9,IF(AND(M30>0,M30<=10),$O$9,$M$9)))) -> ENVIADO | O30: 54 | P30: =IF(ISBLANK(C30),"",L30*O30) -> 54 | Q30: =IF(ISBLANK(C30),"",SUMIFS($P$22:$P5128,$C$22:$C5128,C30)-SUMIFS('LISTA DE INVENTARIO'!$N$22:$N4855,'LISTA DE INVENTARIO'!$C$22:$C4855,C30)) -> -406 | R30: 45105 | S30: ✓ | T30: TRUE
B31: 10 | C31: Aretes de perla | K31: ACCESORIOS | L31: 7 | M31: =IF(ISBLANK(C31),"",IF('LISTA DE INVENTARIO'!$Q$22:$Q4854='LISTA DE INVENTARIO'!$O$9,SUMIFS('LISTA DE INVENTARIO'!$K$22:$K4854,'LISTA DE INVENTARIO'!$C$22:$C4854,C31,'LISTA DE INVENTARIO'!$Q$22:$Q4854,'LISTA DE INVENTARIO'!$O$9)-SUMIFS($L$22:$L5126,$C$22:$C5126,C31),SUMIFS('LISTA DE INVENTARIO'!$K$22:$K4854,'LISTA DE INVENTARIO'!$C$22:$C4854,C31,'LISTA DE INVENTARIO'!$Q$22:$Q4854,'LISTA DE INVENTARIO'!$O$9)-SUMIFS($L$22:$L5126,$C$22:$C5126,C31))) -> -7 | N31: =IF(T31=TRUE,"ENVIADO",IF(ISBLANK(C31),"",IF((AND(M31<=0)),$K$9,IF(AND(M31>0,M31<=10),$O$9,$M$9)))) -> AGOTADO | O31: 38 | P31: =IF(ISBLANK(C31),"",L31*O31) -> 266 | Q31: =IF(ISBLANK(C31),"",SUMIFS($P$22:$P5129,$C$22:$C5129,C31)-SUMIFS('LISTA DE INVENTARIO'!$N$22:$N4856,'LISTA DE INVENTARIO'!$C$22:$C4856,C31)) -> -22 | R31: 45105 | S31: ✓ | T31: FALSE
B32: 11 | C32: reloj azul sport hombre | K32: ACCESORIOS | L32: 8 | M32: =IF(ISBLANK(C32),"",IF('LISTA DE INVENTARIO'!$Q$22:$Q4855='LISTA DE INVENTARIO'!$O$9,SUMIFS('LISTA DE INVENTARIO'!$K$22:$K4855,'LISTA DE INVENTARIO'!$C$22:$C4855,C32,'LISTA DE INVENTARIO'!$Q$22:$Q4855,'LISTA DE INVENTARIO'!$O$9)-SUMIFS($L$22:$L5127,$C$22:$C5127,C32),SUMIFS('LISTA DE INVENTARIO'!$K$22:$K4855,'LISTA DE INVENTARIO'!$C$22:$C4855,C32,'LISTA DE INVENTARIO'!$Q$22:$Q4855,'LISTA DE INVENTARIO'!$O$9)-SUMIFS($L$22:$L5127,$C$22:$C5127,C32))) -> -8 | N32: =IF(T32=TRUE,"ENVIADO",IF(ISBLANK(C32),"",IF((AND(M32<=0)),$K$9,IF(AND(M32>0,M32<=10),$O$9,$M$9)))) -> ENVIADO | O32: 58 | P32: =IF(ISBLANK(C32),"",L32*O32) -> 464 | Q32: =IF(ISBLANK(C32),"",SUMIFS($P$22:$P5130,$C$22:$C5130,C32)-SUMIFS('LISTA DE INVENTARIO'!$N$22:$N4857,'LISTA DE INVENTARIO'!$C$22:$C4857,C32)) -> 176 | R32: 45093 | S32: ✓ | T32: TRUE
B33: 12 | C33: Zapatos casuales hombre | K33: ZAPATOS | L33: 2 | M33: =IF(ISBLANK(C33),"",IF('LISTA DE INVENTARIO'!$Q$22:$Q4856='LISTA DE INVENTARIO'!$O$9,SUMIFS('LISTA DE INVENTARIO'!$K$22:$K4856,'LISTA DE INVENTARIO'!$C$22:$C4856,C33,'LISTA DE INVENTARIO'!$Q$22:$Q4856,'LISTA DE INVENTARIO'!$O$9)-SUMIFS($L$22:$L5128,$C$22:$C5128,C33),SUMIFS('LISTA DE INVENTARIO'!$K$22:$K4856,'LISTA DE INVENTARIO'!$C$22:$C4856,C33,'LISTA DE INVENTARIO'!$Q$22:$Q4856,'LISTA DE INVENTARIO'!$O$9)-SUMIFS($L$22:$L5128,$C$22:$C5128,C33))) -> -2 | N33: =IF(T33=TRUE,"ENVIADO",IF(ISBLANK(C33),"",IF((AND(M33<=0)),$K$9,IF(AND(M33>0,M33<=10),$O$9,$M$9)))) -> ENVIADO | O33: 46 | P33: =IF(ISBLANK(C33),"",L33*O33) -> 92 | Q33: =IF(ISBLANK(C33),"",SUMIFS($P$22:$P5131,$C$22:$C5131,C33)-SUMIFS('LISTA DE INVENTARIO'!$N$22:$N4858,'LISTA DE INVENTARIO'!$C$22:$C4858,C33)) -> -708 | R33: 45093 | S33: ✓ | T33: TRUE
B34: 13 | M34: =IF(ISBLANK(C34),"",IF('LISTA DE INVENTARIO'!$Q$22:$Q4857='LISTA DE INVENTARIO'!$O$9,SUMIFS('LISTA DE INVENTARIO'!$K$22:$K4857,'LISTA DE INVENTARIO'!$C$22:$C4857,C34,'LISTA DE INVENTARIO'!$Q$22:$Q4857,'LISTA DE INVENTARIO'!$O$9)-SUMIFS($L$22:$L5129,$C$22:$C5129,C34),SUMIFS('LISTA DE INVENTARIO'!$K$22:$K4857,'LISTA DE INVENTARIO'!$C$22:$C4857,C34,'LISTA DE INVENTARIO'!$Q$22:$Q4857,'LISTA DE INVENTARIO'!$O$9)-SUMIFS($L$22:$L5129,$C$22:$C5129,C34))) | N34: =IF(T34=TRUE,"ENVIADO",IF(ISBLANK(C34),"",IF((AND(M34<=0)),$K$9,IF(AND(M34>0,M34<=10),$O$9,$M$9)))) | P34: =IF(ISBLANK(C34),"",L34*O34) | Q34: =IF(ISBLANK(C34),"",SUMIFS($P$22:$P5132,$C$22:$C5132,C34)-SUMIFS('LISTA DE INVENTARIO'!$N$22:$N4859,'LISTA DE INVENTARIO'!$C$22:$C4859,C34)) | T34: FALSE
B35: 14 | M35: =IF(ISBLANK(C35),"",IF('LISTA DE INVENTARIO'!$Q$22:$Q4858='LISTA DE INVENTARIO'!$O$9,SUMIFS('LISTA DE INVENTARIO'!$K$22:$K4858,'LISTA DE INVENTARIO'!$C$22:$C4858,C35,'LISTA DE INVENTARIO'!$Q$22:$Q4858,'LISTA DE INVENTARIO'!$O$9)-SUMIFS($L$22:$L5130,$C$22:$C5130,C35),SUMIFS('LISTA DE INVENTARIO'!$K$22:$K4858,'LISTA DE INVENTARIO'!$C$22:$C4858,C35,'LISTA DE INVENTARIO'!$Q$22:$Q4858,'LISTA DE INVENTARIO'!$O$9)-SUMIFS($L$22:$L5130,$C$22:$C5130,C35))) | N35: =IF(T35=TRUE,"ENVIADO",IF(ISBLANK(C35),"",IF((AND(M35<=0)),$K$9,IF(AND(M35>0,M35<=10),$O$9,$M$9)))) -> ENVIADO | P35: =IF(ISBLANK(C35),"",L35*O35) | Q35: =IF(ISBLANK(C35),"",SUMIFS($P$22:$P5133,$C$22:$C5133,C35)-SUMIFS('LISTA DE INVENTARIO'!$N$22:$N4860,'LISTA DE INVENTARIO'!$C$22:$C4860,C35)) | T35: TRUE
B36: 15 | M36: =IF(ISBLANK(C36),"",IF('LISTA DE INVENTARIO'!$Q$22:$Q4859='LISTA DE INVENTARIO'!$O$9,SUMIFS('LISTA DE INVENTARIO'!$K$22:$K4859,'LISTA DE INVENTARIO'!$C$22:$C4859,C36,'LISTA DE INVENTARIO'!$Q$22:$Q4859,'LISTA DE INVENTARIO'!$O$9)-SUMIFS($L$22:$L5131,$C$22:$C5131,C36),SUMIFS('LISTA DE INVENTARIO'!$K$22:$K4859,'LISTA DE INVENTARIO'!$C$22:$C4859,C36,'LISTA DE INVENTARIO'!$Q$22:$Q4859,'LISTA DE INVENTARIO'!$O$9)-SUMIFS($L$22:$L5131,$C$22:$C5131,C36))) | N36: =IF(T36=TRUE,"ENVIADO",IF(ISBLANK(C36),"",IF((AND(M36<=0)),$K$9,IF(AND(M36>0,M36<=10),$O$9,$M$9)))) | P36: =IF(ISBLANK(C36),"",L36*O36) | Q36: =IF(ISBLANK(C36),"",SUMIFS($P$22:$P5134,$C$22:$C5134,C36)-SUMIFS('LISTA DE INVENTARIO'!$N$22:$N4861,'LISTA DE INVENTARIO'!$C$22:$C4861,C36)) | T36: FALSE
B37: 16 | M37: =IF(ISBLANK(C37),"",IF('LISTA DE INVENTARIO'!$Q$22:$Q4860='LISTA DE INVENTARIO'!$O$9,SUMIFS('LISTA DE INVENTARIO'!$K$22:$K4860,'LISTA DE INVENTARIO'!$C$22:$C4860,C37,'LISTA DE INVENTARIO'!$Q$22:$Q4860,'LISTA DE INVENTARIO'!$O$9)-SUMIFS($L$22:$L5132,$C$22:$C5132,C37),SUMIFS('LISTA DE INVENTARIO'!$K$22:$K4860,'LISTA DE INVENTARIO'!$C$22:$C4860,C37,'LISTA DE INVENTARIO'!$Q$22:$Q4860,'LISTA DE INVENTARIO'!$O$9)-SUMIFS($L$22:$L5132,$C$22:$C5132,C37))) | N37: =IF(T37=TRUE,"ENVIADO",IF(ISBLANK(C37),"",IF((AND(M37<=0)),$K$9,IF(AND(M37>0,M37<=10),$O$9,$M$9)))) | P37: =IF(ISBLANK(C37),"",L37*O37) | Q37: =IF(ISBLANK(C37),"",SUMIFS($P$22:$P5135,$C$22:$C5135,C37)-SUMIFS('LISTA DE INVENTARIO'!$N$22:$N4862,'LISTA DE INVENTARIO'!$C$22:$C4862,C37)) | T37: FALSE
B38: 17 | M38: =IF(ISBLANK(C38),"",IF('LISTA DE INVENTARIO'!$Q$22:$Q4861='LISTA DE INVENTARIO'!$O$9,SUMIFS('LISTA DE INVENTARIO'!$K$22:$K4861,'LISTA DE INVENTARIO'!$C$22:$C4861,C38,'LISTA DE INVENTARIO'!$Q$22:$Q4861,'LISTA DE INVENTARIO'!$O$9)-SUMIFS($L$22:$L5133,$C$22:$C5133,C38),SUMIFS('LISTA DE INVENTARIO'!$K$22:$K4861,'LISTA DE INVENTARIO'!$C$22:$C4861,C38,'LISTA DE INVENTARIO'!$Q$22:$Q4861,'LISTA DE INVENTARIO'!$O$9)-SUMIFS($L$22:$L5133,$C$22:$C5133,C38))) | N38: =IF(T38=TRUE,"ENVIADO",IF(ISBLANK(C38),"",IF((AND(M38<=0)),$K$9,IF(AND(M38>0,M38<=10),$O$9,$M$9)))) | P38: =IF(ISBLANK(C38),"",L38*O38) | Q38: =IF(ISBLANK(C38),"",SUMIFS($P$22:$P5136,$C$22:$C5136,C38)-SUMIFS('LISTA DE INVENTARIO'!$N$22:$N4863,'LISTA DE INVENTARIO'!$C$22:$C4863,C38)) | T38: FALSE
B39: 18 | M39: =IF(ISBLANK(C39),"",IF('LISTA DE INVENTARIO'!$Q$22:$Q4862='LISTA DE INVENTARIO'!$O$9,SUMIFS('LISTA DE INVENTARIO'!$K$22:$K4862,'LISTA DE INVENTARIO'!$C$22:$C4862,C39,'LISTA DE INVENTARIO'!$Q$22:$Q4862,'LISTA DE INVENTARIO'!$O$9)-SUMIFS($L$22:$L5134,$C$22:$C5134,C39),SUMIFS('LISTA DE INVENTARIO'!$K$22:$K4862,'LISTA DE INVENTARIO'!$C$22:$C4862,C39,'LISTA DE INVENTARIO'!$Q$22:$Q4862,'LISTA DE INVENTARIO'!$O$9)-SUMIFS($L$22:$L5134,$C$22:$C5134,C39))) | N39: =IF(T39=TRUE,"ENVIADO",IF(ISBLANK(C39),"",IF((AND(M39<=0)),$K$9,IF(AND(M39>0,M39<=10),$O$9,$M$9)))) | P39: =IF(ISBLANK(C39),"",L39*O39) | Q39: =IF(ISBLANK(C39),"",SUMIFS($P$22:$P5137,$C$22:$C5137,C39)-SUMIFS('LISTA DE INVENTARIO'!$N$22:$N4864,'LISTA DE INVENTARIO'!$C$22:$C4864,C39)) | T39: FALSE
B40: 19 | M40: =IF(ISBLANK(C40),"",IF('LISTA DE INVENTARIO'!$Q$22:$Q4863='LISTA DE INVENTARIO'!$O$9,SUMIFS('LISTA DE INVENTARIO'!$K$22:$K4863,'LISTA DE INVENTARIO'!$C$22:$C4863,C40,'LISTA DE INVENTARIO'!$Q$22:$Q4863,'LISTA DE INVENTARIO'!$O$9)-SUMIFS($L$22:$L5135,$C$22:$C5135,C40),SUMIFS('LISTA DE INVENTARIO'!$K$22:$K4863,'LISTA DE INVENTARIO'!$C$22:$C4863,C40,'LISTA DE INVENTARIO'!$Q$22:$Q4863,'LISTA DE INVENTARIO'!$O$9)-SUMIFS($L$22:$L5135,$C$22:$C5135,C40))) | N40: =IF(T40=TRUE,"ENVIADO",IF(ISBLANK(C40),"",IF((AND(M40<=0)),$K$9,IF(AND(M40>0,M40<=10),$O$9,$M$9)))) | P40: =IF(ISBLANK(C40),"",L40*O40) | Q40: =IF(ISBLANK(C40),"",SUMIFS($P$22:$P5138,$C$22:$C5138,C40)-SUMIFS('LISTA DE INVENTARIO'!$N$22:$N4865,'LISTA DE INVENTARIO'!$C$22:$C4865,C40)) | T40: FALSE
B41: 20 | M41: =IF(ISBLANK(C41),"",IF('LISTA DE INVENTARIO'!$Q$22:$Q4864='LISTA DE INVENTARIO'!$O$9,SUMIFS('LISTA DE INVENTARIO'!$K$22:$K4864,'LISTA DE INVENTARIO'!$C$22:$C4864,C41,'LISTA DE INVENTARIO'!$Q$22:$Q4864,'LISTA DE INVENTARIO'!$O$9)-SUMIFS($L$22:$L5136,$C$22:$C5136,C41),SUMIFS('LISTA DE INVENTARIO'!$K$22:$K4864,'LISTA DE INVENTARIO'!$C$22:$C4864,C41,'LISTA DE INVENTARIO'!$Q$22:$Q4864,'LISTA DE INVENTARIO'!$O$9)-SUMIFS($L$22:$L5136,$C$22:$C5136,C41))) | N41: =IF(T41=TRUE,"ENVIADO",IF(ISBLANK(C41),"",IF((AND(M41<=0)),$K$9,IF(AND(M41>0,M41<=10),$O$9,$M$9)))) | P41: =IF(ISBLANK(C41),"",L41*O41) | Q41: =IF(ISBLANK(C41),"",SUMIFS($P$22:$P5139,$C$22:$C5139,C41)-SUMIFS('LISTA DE INVENTARIO'!$N$22:$N4866,'LISTA DE INVENTARIO'!$C$22:$C4866,C41)) | T41: FALSE
B42: 21 | M42: =IF(ISBLANK(C42),"",IF('LISTA DE INVENTARIO'!$Q$22:$Q4865='LISTA DE INVENTARIO'!$O$9,SUMIFS('LISTA DE INVENTARIO'!$K$22:$K4865,'LISTA DE INVENTARIO'!$C$22:$C4865,C42,'LISTA DE INVENTARIO'!$Q$22:$Q4865,'LISTA DE INVENTARIO'!$O$9)-SUMIFS($L$22:$L5137,$C$22:$C5137,C42),SUMIFS('LISTA DE INVENTARIO'!$K$22:$K4865,'LISTA DE INVENTARIO'!$C$22:$C4865,C42,'LISTA DE INVENTARIO'!$Q$22:$Q4865,'LISTA DE INVENTARIO'!$O$9)-SUMIFS($L$22:$L5137,$C$22:$C5137,C42))) | N42: =IF(T42=TRUE,"ENVIADO",IF(ISBLANK(C42),"",IF((AND(M42<=0)),$K$9,IF(AND(M42>0,M42<=10),$O$9,$M$9)))) | P42: =IF(ISBLANK(C42),"",L42*O42) | Q42: =IF(ISBLANK(C42),"",SUMIFS($P$22:$P5140,$C$22:$C5140,C42)-SUMIFS('LISTA DE INVENTARIO'!$N$22:$N4867,'LISTA DE INVENTARIO'!$C$22:$C4867,C42)) | T42: FALSE
B43: 22 | M43: =IF(ISBLANK(C43),"",IF('LISTA DE INVENTARIO'!$Q$22:$Q4866='LISTA DE INVENTARIO'!$O$9,SUMIFS('LISTA DE INVENTARIO'!$K$22:$K4866,'LISTA DE INVENTARIO'!$C$22:$C4866,C43,'LISTA DE INVENTARIO'!$Q$22:$Q4866,'LISTA DE INVENTARIO'!$O$9)-SUMIFS($L$22:$L5138,$C$22:$C5138,C43),SUMIFS('LISTA DE INVENTARIO'!$K$22:$K4866,'LISTA DE INVENTARIO'!$C$22:$C4866,C43,'LISTA DE INVENTARIO'!$Q$22:$Q4866,'LISTA DE INVENTARIO'!$O$9)-SUMIFS($L$22:$L5138,$C$22:$C5138,C43))) | N43: =IF(T43=TRUE,"ENVIADO",IF(ISBLANK(C43),"",IF((AND(M43<=0)),$K$9,IF(AND(M43>0,M43<=10),$O$9,$M$9)))) | P43: =IF(ISBLANK(C43),"",L43*O43) | Q43: =IF(ISBLANK(C43),"",SUMIFS($P$22:$P5141,$C$22:$C5141,C43)-SUMIFS('LISTA DE INVENTARIO'!$N$22:$N4868,'LISTA DE INVENTARIO'!$C$22:$C4868,C43)) | T43: FALSE
B44: 23 | M44: =IF(ISBLANK(C44),"",IF('LISTA DE INVENTARIO'!$Q$22:$Q4867='LISTA DE INVENTARIO'!$O$9,SUMIFS('LISTA DE INVENTARIO'!$K$22:$K4867,'LISTA DE INVENTARIO'!$C$22:$C4867,C44,'LISTA DE INVENTARIO'!$Q$22:$Q4867,'LISTA DE INVENTARIO'!$O$9)-SUMIFS($L$22:$L5139,$C$22:$C5139,C44),SUMIFS('LISTA DE INVENTARIO'!$K$22:$K4867,'LISTA DE INVENTARIO'!$C$22:$C4867,C44,'LISTA DE INVENTARIO'!$Q$22:$Q4867,'LISTA DE INVENTARIO'!$O$9)-SUMIFS($L$22:$L5139,$C$22:$C5139,C44))) | N44: =IF(T44=TRUE,"ENVIADO",IF(ISBLANK(C44),"",IF((AND(M44<=0)),$K$9,IF(AND(M44>0,M44<=10),$O$9,$M$9)))) | P44: =IF(ISBLANK(C44),"",L44*O44) | Q44: =IF(ISBLANK(C44),"",SUMIFS($P$22:$P5142,$C$22:$C5142,C44)-SUMIFS('LISTA DE INVENTARIO'!$N$22:$N4869,'LISTA DE INVENTARIO'!$C$22:$C4869,C44))
...

Sheet RESUMEN
B2: RESUMEN DE INVENTARIO
B3: Esta sección es un resumen de tu inventario no se debe modificar nada.
B6: # | C6: DESCRIPCIÓN DEL ITEM | D6: # ITEMS PENDIENTES | E6: =SUM(D7:D20) -> 3 | F6: # ITEMS ENVIADOS
B7: 1 | C7: =Config!E11 -> ROPA | D7: =COUNTIFS('SEGUIMIENTO DE INVENTARIO'!$K$22:$K$122,$C7)-COUNTIFS('SEGUIMIENTO DE INVENTARIO'!$T$22:$T$122,TRUE(),'SEGUIMIENTO DE INVENTARIO'!$K$22:$K$122,$C7) -> 2 | E7: =D7/$E$6 -> 0.66666667 | F7: =COUNTIFS('SEGUIMIENTO DE INVENTARIO'!$K$22:$K$122,$C7)-COUNTIFS('SEGUIMIENTO DE INVENTARIO'!$T$22:$T$122,FALSE(),'SEGUIMIENTO DE INVENTARIO'!$K$22:$K$122,$C7) -> 5
B8: 2 | C8: =Config!E12 -> ZAPATOS | D8: =COUNTIFS('SEGUIMIENTO DE INVENTARIO'!$K$22:$K$122,$C8)-COUNTIFS('SEGUIMIENTO DE INVENTARIO'!$T$22:$T$122,TRUE(),'SEGUIMIENTO DE INVENTARIO'!$K$22:$K$122,$C8) -> 0 | E8: =D8/$E$6 -> 0 | F8: =COUNTIFS('SEGUIMIENTO DE INVENTARIO'!$K$22:$K$122,$C8)-COUNTIFS('SEGUIMIENTO DE INVENTARIO'!$T$22:$T$122,FALSE(),'SEGUIMIENTO DE INVENTARIO'!$K$22:$K$122,$C8) -> 1
B9: 3 | C9: =Config!E13 -> ACCESORIOS | D9: =COUNTIFS('SEGUIMIENTO DE INVENTARIO'!$K$22:$K$122,$C9)-COUNTIFS('SEGUIMIENTO DE INVENTARIO'!$T$22:$T$122,TRUE(),'SEGUIMIENTO DE INVENTARIO'!$K$22:$K$122,$C9) -> 1 | E9: =D9/$E$6 -> 0.33333333 | F9: =COUNTIFS('SEGUIMIENTO DE INVENTARIO'!$K$22:$K$122,$C9)-COUNTIFS('SEGUIMIENTO DE INVENTARIO'!$T$22:$T$122,FALSE(),'SEGUIMIENTO DE INVENTARIO'!$K$22:$K$122,$C9) -> 1
B10: 4 | C10: =Config!E14 -> BELLEZA | D10: =COUNTIFS('SEGUIMIENTO DE INVENTARIO'!$K$22:$K$122,$C10)-COUNTIFS('SEGUIMIENTO DE INVENTARIO'!$T$22:$T$122,TRUE(),'SEGUIMIENTO DE INVENTARIO'!$K$22:$K$122,$C10) -> 0 | E10: =D10/$E$6 -> 0 | F10: =COUNTIFS('SEGUIMIENTO DE INVENTARIO'!$K$22:$K$122,$C10)-COUNTIFS('SEGUIMIENTO DE INVENTARIO'!$T$22:$T$122,FALSE(),'SEGUIMIENTO DE INVENTARIO'!$K$22:$K$122,$C10) -> 1
B11: 5 | C11: =Config!E15 -> TÉCNICA | D11: =COUNTIFS('SEGUIMIENTO DE INVENTARIO'!$K$22:$K$122,$C11)-COUNTIFS('SEGUIMIENTO DE INVENTARIO'!$T$22:$T$122,TRUE(),'SEGUIMIENTO DE INVENTARIO'!$K$22:$K$122,$C11) -> 0 | E11: =D11/$E$6 -> 0 | F11: =COUNTIFS('SEGUIMIENTO DE INVENTARIO'!$K$22:$K$122,$C11)-COUNTIFS('SEGUIMIENTO DE INVENTARIO'!$T$22:$T$122,FALSE(),'SEGUIMIENTO DE INVENTARIO'!$K$22:$K$122,$C11) -> 0
B12: 6 | C12: =Config!E16 -> OTROS | D12: =COUNTIFS('SEGUIMIENTO DE INVENTARIO'!$K$22:$K$122,$C12)-COUNTIFS('SEGUIMIENTO DE INVENTARIO'!$T$22:$T$122,TRUE(),'SEGUIMIENTO DE INVENTARIO'!$K$22:$K$122,$C12) -> 0 | E12: =D12/$E$6 -> 0 | F12: =COUNTIFS('SEGUIMIENTO DE INVENTARIO'!$K$22:$K$122,$C12)-COUNTIFS('SEGUIMIENTO DE INVENTARIO'!$T$22:$T$122,FALSE(),'SEGUIMIENTO DE INVENTARIO'!$K$22:$K$122,$C12) -> 1
B13: 7 | C13: =Config!E17 -> EXTRA 1 | D13: =COUNTIFS('SEGUIMIENTO DE INVENTARIO'!$K$22:$K$122,$C13)-COUNTIFS('SEGUIMIENTO DE INVENTARIO'!$T$22:$T$122,TRUE(),'SEGUIMIENTO DE INVENTARIO'!$K$22:$K$122,$C13) -> 0 | E13: =D13/$E$6 -> 0 | F13: =COUNTIFS('SEGUIMIENTO DE INVENTARIO'!$K$22:$K$122,$C13)-COUNTIFS('SEGUIMIENTO DE INVENTARIO'!$T$22:$T$122,FALSE(),'SEGUIMIENTO DE INVENTARIO'!$K$22:$K$122,$C13) -> 0
B14: 8 | C14: =Config!E18 -> EXTRA 2 | D14: =COUNTIFS('SEGUIMIENTO DE INVENTARIO'!$K$22:$K$122,$C14)-COUNTIFS('SEGUIMIENTO DE INVENTARIO'!$T$22:$T$122,TRUE(),'SEGUIMIENTO DE INVENTARIO'!$K$22:$K$122,$C14) -> 0 | E14: =D14/$E$6 -> 0 | F14: =COUNTIFS('SEGUIMIENTO DE INVENTARIO'!$K$22:$K$122,$C14)-COUNTIFS('SEGUIMIENTO DE INVENTARIO'!$T$22:$T$122,FALSE(),'SEGUIMIENTO DE INVENTARIO'!$K$22:$K$122,$C14) -> 0
B15: 9 | C15: =Config!E19 -> EXTRA 3 | D15: =COUNTIFS('SEGUIMIENTO DE INVENTARIO'!$K$22:$K$122,$C15)-COUNTIFS('SEGUIMIENTO DE INVENTARIO'!$T$22:$T$122,TRUE(),'SEGUIMIENTO DE INVENTARIO'!$K$22:$K$122,$C15) -> 0 | E15: =D15/$E$6 -> 0 | F15: =COUNTIFS('SEGUIMIENTO DE INVENTARIO'!$K$22:$K$122,$C15)-COUNTIFS('SEGUIMIENTO DE INVENTARIO'!$T$22:$T$122,FALSE(),'SEGUIMIENTO DE INVENTARIO'!$K$22:$K$122,$C15) -> 0
B16: 10 | C16: =Config!E20 -> EXTRA 4 | D16: =COUNTIFS('SEGUIMIENTO DE INVENTARIO'!$K$22:$K$122,$C16)-COUNTIFS('SEGUIMIENTO DE INVENTARIO'!$T$22:$T$122,TRUE(),'SEGUIMIENTO DE INVENTARIO'!$K$22:$K$122,$C16) -> 0 | E16: =D16/$E$6 -> 0 | F16: =COUNTIFS('SEGUIMIENTO DE INVENTARIO'!$K$22:$K$122,$C16)-COUNTIFS('SEGUIMIENTO DE INVENTARIO'!$T$22:$T$122,FALSE(),'SEGUIMIENTO DE INVENTARIO'!$K$22:$K$122,$C16) -> 0
B17: 11 | C17: =Config!E21 -> EXTRA 5 | D17: =COUNTIFS('SEGUIMIENTO DE INVENTARIO'!$K$22:$K$122,$C17)-COUNTIFS('SEGUIMIENTO DE INVENTARIO'!$T$22:$T$122,TRUE(),'SEGUIMIENTO DE INVENTARIO'!$K$22:$K$122,$C17) -> 0 | E17: =D17/$E$6 -> 0 | F17: =COUNTIFS('SEGUIMIENTO DE INVENTARIO'!$K$22:$K$122,$C17)-COUNTIFS('SEGUIMIENTO DE INVENTARIO'!$T$22:$T$122,FALSE(),'SEGUIMIENTO DE INVENTARIO'!$K$22:$K$122,$C17) -> 0
B18: 12 | C18: =Config!E22 -> EXTRA 6 | D18: =COUNTIFS('SEGUIMIENTO DE INVENTARIO'!$K$22:$K$122,$C18)-COUNTIFS('SEGUIMIENTO DE INVENTARIO'!$T$22:$T$122,TRUE(),'SEGUIMIENTO DE INVENTARIO'!$K$22:$K$122,$C18) -> 0 | E18: =D18/$E$6 -> 0 | F18: =COUNTIFS('SEGUIMIENTO DE INVENTARIO'!$K$22:$K$122,$C18)-COUNTIFS('SEGUIMIENTO DE INVENTARIO'!$T$22:$T$122,FALSE(),'SEGUIMIENTO DE INVENTARIO'!$K$22:$K$122,$C18) -> 0
... B20: 14 | C20: =Config!E24 -> EXTRA 8 | D20: =COUNTIFS('SEGUIMIENTO DE INVENTARIO'!$K$22:$K$122,$C20)-COUNTIFS('SEGUIMIENTO DE INVENTARIO'!$T$22:$T$122,TRUE(),'SEGUIMIENTO DE INVENTARIO'!$K$22:$K$122,$C20) -> 0 | E20: =D20/$E$6 -> 0 | F20: =COUNTIFS('SEGUIMIENTO DE INVENTARIO'!$K$22:$K$122,$C20)-COUNTIFS('SEGUIMIENTO DE INVENTARIO'!$T$22:$T$122,FALSE(),'SEGUIMIENTO DE INVENTARIO'!$K$22:$K$122,$C20) -> 0
